BEGIN:VCALENDAR
VERSION:2.0
PRODID:-//eventon.com NONSGML v1.0//EN
BEGIN:VEVENT
UID:69e8c02e88d2e
DTSTAMP:20260422T143350
DTSTART:20260426T063000Z
DTEND:20260426T215000Z
LOCATION:Salle des fêtes - Saint Loup 
SUMMARY:Brocante - Vide Grenier
DESCRIPTION: Brocante - Vide Grenier
END:VEVENT
END:VCALENDAR