BEGIN:VCALENDAR
VERSION:2.0
PRODID:-//eventon.com NONSGML v1.0//EN
BEGIN:VEVENT
UID:69e758add691e
DTSTAMP:20260421T125957
DTSTART:20260426T053000Z
DTEND:20260426T215000Z
LOCATION:Pontcharra-sur-Turdine 69490 VINDRY-SUR-TURDINE
SUMMARY:MARCHE LUDIQUE
DESCRIPTION: MARCHE LUDIQUE
END:VEVENT
END:VCALENDAR