BEGIN:VCALENDAR
VERSION:2.0
PRODID:-//eventon.com NONSGML v1.0//EN
BEGIN:VEVENT
UID:69e73eeee9f4d
DTSTAMP:20260421T111006
DTSTART:20260424T180000Z
DTEND:20260424T215000Z
LOCATION:Les Olmes 69490 VINDRY-SUR-TURDINE
SUMMARY:Fête des classes Les Olmes 24 et 25 avril
DESCRIPTION: Fête des classes Les Olmes 24 et 25 avril
END:VEVENT
END:VCALENDAR