BEGIN:VCALENDAR
VERSION:2.0
PRODID:-//eventon.com NONSGML v1.0//EN
BEGIN:VEVENT
UID:69e730b15b9b2
DTSTAMP:20260421T100921
DTSTART:20260227T143000Z
DTEND:20260227T193000Z
LOCATION:Salle des fêtes - Les Olmes 
SUMMARY:Carnaval Boum Party
DESCRIPTION: Carnaval Boum Party
END:VEVENT
END:VCALENDAR