BEGIN:VCALENDAR
VERSION:2.0
PRODID:-//eventon.com NONSGML v1.0//EN
BEGIN:VEVENT
UID:69e73268b6448
DTSTAMP:20260421T101640
DTSTART:20260201T123000Z
DTEND:20260201T215000Z
LOCATION:Salle des fêtes - Saint Loup 
SUMMARY:Théâtre
DESCRIPTION: Théâtre
END:VEVENT
END:VCALENDAR