BEGIN:VCALENDAR
VERSION:2.0
PRODID:-//eventon.com NONSGML v1.0//EN
BEGIN:VEVENT
UID:69e733433b980
DTSTAMP:20260421T102019
DTSTART:20251010T120000Z
DTEND:20251010T215000Z
LOCATION:Salle Polyvalent de Saint-Forgeux 
SUMMARY:Concours de belote
DESCRIPTION: Concours de belote
END:VEVENT
END:VCALENDAR