BEGIN:VCALENDAR
VERSION:2.0
PRODID:-//eventon.com NONSGML v1.0//EN
BEGIN:VEVENT
UID:69e88cd49f8fa
DTSTAMP:20260422T105444
DTSTART:20251005T060000Z
DTEND:20251005T150000Z
LOCATION:Salle des fêtes - Saint Loup 
SUMMARY:Vide Grenier
DESCRIPTION: Vide Grenier
END:VEVENT
END:VCALENDAR