BEGIN:VCALENDAR
VERSION:2.0
PRODID:-//eventon.com NONSGML v1.0//EN
BEGIN:VEVENT
UID:69e73400258b5
DTSTAMP:20260421T102328
DTSTART:20250913T183000Z
DTEND:20250913T215000Z
LOCATION:Salle de la Commanderie - Pontcharra-sur-Turdine Rue de la Commanderie\,  69490 Vindry-sur-Turdine
SUMMARY:Voyage au bout du monde
DESCRIPTION: 🌍✨ [Un tour du monde en danse – Spectacle solidaire à la Commanderie] ✨🌍 Préparez-vous à voyager aux quatre coins du globe… sans quitter votre siège ! La troupe "Danser pour s’accorder" vous embarque pour un voyage chorégraphique haut en couleur : 🇨🇳 Chine\,  🇮🇳 Inde\,  🌍 Afrique\,  🇪🇸 Espagne…[..]
END:VEVENT
END:VCALENDAR